BEGIN:VCALENDAR
VERSION:2.0
PRODID:-//Launchpad INW - ECPv6.15.17//NONSGML v1.0//EN
CALSCALE:GREGORIAN
METHOD:PUBLISH
X-WR-CALNAME:Launchpad INW
X-ORIGINAL-URL:https://launchpadinw.com
X-WR-CALDESC:Events for Launchpad INW
REFRESH-INTERVAL;VALUE=DURATION:PT1H
X-Robots-Tag:noindex
X-PUBLISHED-TTL:PT1H
BEGIN:VTIMEZONE
TZID:America/Los_Angeles
BEGIN:DAYLIGHT
TZOFFSETFROM:-0800
TZOFFSETTO:-0700
TZNAME:PDT
DTSTART:20240310T100000
END:DAYLIGHT
BEGIN:STANDARD
TZOFFSETFROM:-0700
TZOFFSETTO:-0800
TZNAME:PST
DTSTART:20241103T090000
END:STANDARD
BEGIN:DAYLIGHT
TZOFFSETFROM:-0800
TZOFFSETTO:-0700
TZNAME:PDT
DTSTART:20250309T100000
END:DAYLIGHT
BEGIN:STANDARD
TZOFFSETFROM:-0700
TZOFFSETTO:-0800
TZNAME:PST
DTSTART:20251102T090000
END:STANDARD
BEGIN:DAYLIGHT
TZOFFSETFROM:-0800
TZOFFSETTO:-0700
TZNAME:PDT
DTSTART:20260308T100000
END:DAYLIGHT
BEGIN:STANDARD
TZOFFSETFROM:-0700
TZOFFSETTO:-0800
TZNAME:PST
DTSTART:20261101T090000
END:STANDARD
END:VTIMEZONE
BEGIN:VEVENT
DTSTART;TZID=America/Los_Angeles:20251204T160000
DTEND;TZID=America/Los_Angeles:20251204T183000
DTSTAMP:20260419T053229
CREATED:20251112T034339Z
LAST-MODIFIED:20251112T034339Z
UID:1116-1764864000-1764873000@launchpadinw.com
SUMMARY:InnovateINW: Momentum Celebration
DESCRIPTION:Join us for an memorable evening celebrating innovation\, collaboration\, and progress across the Inland Northwest! InnovateINW: Momentum brings together entrepreneurs\, researchers\, business leaders\, and community partners to honor our region’s innovation legacy and the breakthroughs shaping its future. Enjoy an evening filled with: A hosted beer and wine bar and light refreshments Innovation awards recognizing outstanding regional leaders and partners Cutting-edge technology demonstrations from Spokane’s most forward-thinking organizations Plenty of networking and mingling with peers\, founders\, and ecosystem partners And much more — inspiration\, connection\, and celebration all in one place This event is free to attend\, all we ask is that you share this invite with some friends! Let’s raise a glass to our shared progress and the innovators powering what’s next for the Inland Northwest. \nClick here to register
URL:https://launchpadinw.com/event/innovateinw-momentum-celebration/
LOCATION:FUEL Coworking\, 809 West Main Avenue Suite 212\, Spokane\, W\, 99201https://www.eventbrite.com/e/launch-and-learn-tickets-1687854711879?aff=oddtdtcreator\, United States
ATTACH;FMTTYPE=image/jpeg:https://launchpadinw.com/wp-content/uploads/2025/11/InnovateINW-1.jpeg
END:VEVENT
BEGIN:VEVENT
DTSTART;TZID=America/Los_Angeles:20251110T164500
DTEND;TZID=America/Los_Angeles:20251110T190000
DTSTAMP:20260419T053229
CREATED:20251023T062854Z
LAST-MODIFIED:20251023T062854Z
UID:1096-1762793100-1762801200@launchpadinw.com
SUMMARY:Designing Discovery: Innovation in Life Science Construction and Incubation
DESCRIPTION:Innovation in Constructing and Incubating the Northwest’s Bioscience Future\nPresented by Evergreen Bio | Sponsored by Skanska \nEvergreen Bio invites you to an inspiring open house and speaker event showcasing how innovation in design\, construction\, and collaboration is accelerating the region’s bioscience future. \nFrom cutting-edge clean rooms to flexible incubator spaces\, the evening highlights how top regional partners are creating environments where science and innovation thrive. \nFeatured Presentations\nSkanska – Digital Innovation in Life Science Construction\nOne of the world’s leading project development and construction groups\, Skanska will share how digital technologies and sustainable design are transforming life science spaces.\nConcertus (previously OAC Services) – Insights into project management innovation and lessons from recent high-tech builds.\nWhitworth University – A first look at the University’s new engineering facilities and clean room project advancing industry:academic collaborations and research.\nWho Should Attend\nThis event is designed for: \nRegional organizations with high-tech or life science construction interests\nStartup founders seeking to understand lab and incubator space options\nDevelopers and architects exploring specialized bioscience environments\nInvestors\, educators\, and innovators building the Inland Northwest’s bioscience ecosystem\nAgenda Highlights\n3:30 p.m. – Evergreen Bio Board Meeting\n4:45 p.m. – Doors Open / Registration\n5:10 p.m. – Welcome & Sponsor Recognition\n5:15 p.m. – Skanska Presentation\n5:25 p.m. – Concertus\n5:32 p.m. – Whitworth University\n5:40 p.m. – Evergreen Bio Updates\n5:47 p.m. – Networking Kickoff & Tours\n6:45 p.m. – Closing Announcements \nAbout Evergreen Bio\nEvergreen Bio is a collaborative initiative advancing the Inland Northwest’s bioscience industry through incubation\, innovation\, and industry partnerships. The Evergreen Bio Incubator provides startup space\, shared equipment\, and connections that help emerging bioscience companies grow and scale. \nClick here to register
URL:https://launchpadinw.com/event/designing-discovery-innovation-in-life-science-construction-and-incubation/
LOCATION:Evergreen Bioscience Innovation Cluster\, 10220 North Nevada Street #Suite 300\, Spokane\, WA\, 99218\, United States
ATTACH;FMTTYPE=image/jpeg:https://launchpadinw.com/wp-content/uploads/2025/10/event1.jpeg
END:VEVENT
BEGIN:VEVENT
DTSTART;TZID=America/Los_Angeles:20251023T153000
DTEND;TZID=America/Los_Angeles:20251023T183000
DTSTAMP:20260419T053229
CREATED:20251009T193423Z
LAST-MODIFIED:20251009T193423Z
UID:1086-1761233400-1761244200@launchpadinw.com
SUMMARY:Innovator Connect: Building the Health Innovation Ecosystem in the INW
DESCRIPTION:About the Event\nThe Inland Northwest is home to incredible health and life science innovators — from startups and researchers to healthcare professionals and investors. Join us for Innovator Connect: Building the Health Innovation Ecosystem in the INW\, an open\, collaborative event where ideas meet opportunity. \nTogether\, we’ll explore how to strengthen connections\, attract new investment\, and accelerate growth across the region’s bioscience and health innovation sectors. \nWhy Attend\nHear from local innovators and industry leaders\nShare ideas on how to grow the region’s health innovation ecosystem\nMeet founders\, professionals\, and partners driving change\nNetwork and collaborate with people shaping the Inland Northwest’s future\nBuilding a thriving innovation economy across the Inland Northwest. \nHosted by LaunchPad INW — the region’s innovation hub connecting people\, programs\, and partnerships that fuel regional growth. \nClick here to register
URL:https://launchpadinw.com/event/innovator-connect-building-the-health-innovation-ecosystem-in-the-inw/
LOCATION:The Catalyst Building\, 601 E Riverside Avenue\, Spokane\, WA\, 99202\, United States
ATTACH;FMTTYPE=image/jpeg:https://launchpadinw.com/wp-content/uploads/2025/10/InnovatorConnect-Building.jpeg
END:VEVENT
BEGIN:VEVENT
DTSTART;TZID=America/Los_Angeles:20251022T113000
DTEND;TZID=America/Los_Angeles:20251022T130000
DTSTAMP:20260419T053229
CREATED:20251009T193352Z
LAST-MODIFIED:20251009T193352Z
UID:1090-1761132600-1761138000@launchpadinw.com
SUMMARY:Launch & Learn Founder Workshop
DESCRIPTION:TOPIC: MVP Prototyping Workshop \nLearn how to turn ideas into testable products fast. This workshop will help you define core features\, build lean prototypes\, and validate your concept with real users. \nLaunch & Learn is a monthly workshop series designed to give founders and startups the practical tools they need to start and grow their businesses. Hosted at local coworking spaces\, each session delivers vital insights from experienced entrepreneurs and experts. After the workshop\, participants are encouraged to stay\, connect\, and cowork in a creative environment — and then wrap up the day with a fun happy hour featuring activities like trivia\, pitch sessions\, or conversations with local business leaders. It’s education\, collaboration\, and community all in one day. Attendees can bring their own food or lunch will be available for purchase prior to the event. \nClick here to register
URL:https://launchpadinw.com/event/launch-learn-founder-workshop/
LOCATION:FUEL Coworking\, 809 West Main Avenue Suite 212\, Spokane\, W\, 99201https://www.eventbrite.com/e/launch-and-learn-tickets-1687854711879?aff=oddtdtcreator\, United States
ATTACH;FMTTYPE=image/jpeg:https://launchpadinw.com/wp-content/uploads/2025/10/LaunchLearn-1.jpeg
END:VEVENT
BEGIN:VEVENT
DTSTART;TZID=America/Los_Angeles:20251016T083000
DTEND;TZID=America/Los_Angeles:20251016T163000
DTSTAMP:20260419T053229
CREATED:20251009T192421Z
LAST-MODIFIED:20251009T192421Z
UID:1082-1760603400-1760632200@launchpadinw.com
SUMMARY:INTERFACE Spokane 2025
DESCRIPTION:IT Infrastructure is constantly changing\, bringing more new challenges with it every day. From ransomware and the latest security threats to emerging developments in AI and the need for increased bandwidth and storage\, it’s nearly impossible to keep up to date. Our conference is designed to help. We’ve assembled a combination of Best-in-Breed hardware and software solutions\, along with local experts and organizations to help educate\, advise and connect you to resources that can help you meet your goals. \nCovering Information Security\, Infrastructure\, Cloud\, Disaster Recovery\, Communications\, and more\, you’ll find presentations\, panel discussions\, and exhibitors covering a variety of topics\, as well as the latest innovations and best practices. \nClick here to Register
URL:https://launchpadinw.com/event/interface-spokane-2025/
LOCATION:Spokane Convention Center\, 334 West Spokane Falls Blvd\, Spokane\, WA\, 99201
ATTACH;FMTTYPE=image/png:https://launchpadinw.com/wp-content/uploads/2025/10/Interface-1.png
END:VEVENT
BEGIN:VEVENT
DTSTART;TZID=America/Los_Angeles:20250930T153000
DTEND;TZID=America/Los_Angeles:20250930T183000
DTSTAMP:20260419T053229
CREATED:20250917T031946Z
LAST-MODIFIED:20250917T032032Z
UID:1063-1759246200-1759257000@launchpadinw.com
SUMMARY:Innovator Connect: Beyond the Algorithm
DESCRIPTION:Join Spokane’s innovators\, entrepreneurs\, and AI practitioners for a forward-looking discussion on how the Inland Northwest can position itself as an emerging hub for artificial intelligence. This session will explore the region’s unique assets\, industry opportunities\, and talent pipeline while addressing challenges in building a thriving AI ecosystem. Whether you’re a founder\, researcher\, policymaker\, or business leader\, this is your chance to shape Spokane’s AI future\, foster collaboration\, and spark new ideas that can put our region on the national innovation map. \nThis event is free\, appetizers and a no host bar will be available for anyone 21 and over with ID. \nClick here to register
URL:https://launchpadinw.com/event/innovator-connect-beyond-the-algorithm/
LOCATION:The Catalyst Building\, 601 E Riverside Avenue\, Spokane\, WA\, 99202\, United States
ATTACH;FMTTYPE=image/jpeg:https://launchpadinw.com/wp-content/uploads/2025/09/Beyongthealgorithm.jpeg
END:VEVENT
BEGIN:VEVENT
DTSTART;TZID=America/Los_Angeles:20250923T113000
DTEND;TZID=America/Los_Angeles:20250923T130000
DTSTAMP:20260419T053229
CREATED:20250917T031907Z
LAST-MODIFIED:20250917T032144Z
UID:1058-1758627000-1758632400@launchpadinw.com
SUMMARY:Launch & Learn Workshop: Taking your Startup from 0 to 60
DESCRIPTION:Launch & Learn is a monthly workshop series designed to give founders and startups the practical tools they need to start and grow their businesses. Hosted at local coworking spaces\, each session delivers vital insights from experienced entrepreneurs and experts. After the workshop\, participants are encouraged to stay\, connect\, and cowork in a creative environment — and then wrap up the day with a fun happy hour featuring activities like trivia\, pitch sessions\, or conversations with local business leaders. It’s education\, collaboration\, and community all in one day. Attendees can bring their own food or lunch will be available for purchase prior to the event. \nClick here to register
URL:https://launchpadinw.com/event/launch-learn-workshop-taking-your-startup-from-0-to-60/
LOCATION:FUEL Coworking\, 809 West Main Avenue Suite 212\, Spokane\, W\, 99201https://www.eventbrite.com/e/launch-and-learn-tickets-1687854711879?aff=oddtdtcreator\, United States
ATTACH;FMTTYPE=image/jpeg:https://launchpadinw.com/wp-content/uploads/2025/09/LaunchandLearn.jpeg
END:VEVENT
BEGIN:VEVENT
DTSTART;TZID=America/Los_Angeles:20250918T080000
DTEND;TZID=America/Los_Angeles:20250918T173000
DTSTAMP:20260419T053229
CREATED:20250811T182315Z
LAST-MODIFIED:20250811T182315Z
UID:1043-1758182400-1758216600@launchpadinw.com
SUMMARY:INCH360 Cyber Conference
DESCRIPTION:Join us for the 4th Annual INCH360 Cybersecurity/AI Conference—the largest regional Cybersecurity and AI event in the Inland Northwest. Hosted by Eastern Washington University\, BECU and STCU\, this year’s conference will take place on September 18\, 2025\, at Gonzaga University’s Hemmingson Center from 8 a.m. to 5:30 p.m. \nThe event brings together national experts\, including an FBI cyber agent\, industry leaders\, and researchers\, for a full day of discussions on the evolving challenges in cybersecurity and AI. Through a mix of keynote talks and panel discussions\, attendees will gain insight into emerging threats\, best practices\, and the latest advancements in the field. The event is free and open to the public\, with registration required. Attendees can also earn CPE credits and enjoy a complimentary lunch while engaging in conversations with peers and experts. \nThis year’s sessions will cover a range of timely topics\, including “What I Learned from a Breach\,” “The intersection of AI and Cyber\,” and the impact of artificial intelligence on threat detection and response. Other discussions will explore ransomware trends and prevention strategies\, regulatory changes in cybersecurity compliance\, securing critical infrastructure\, and how organizations can build a culture of security awareness. \nWhether you’re an IT professional\, business leader\, or student\, the conference provides an opportunity to deepen your understanding of key cybersecurity and AI issues shaping the industry today. \n  \nClick HERE to Register
URL:https://launchpadinw.com/event/inch360-cyber-conference/
LOCATION:John J. Hemmingson Center\, 702 East Desmet Avenue\, Spokane\, WA\, 99202
ATTACH;FMTTYPE=image/jpeg:https://launchpadinw.com/wp-content/uploads/2025/08/INCH360Conference.jpeg
END:VEVENT
BEGIN:VEVENT
DTSTART;TZID=America/Los_Angeles:20250819T110000
DTEND;TZID=America/Los_Angeles:20250819T133000
DTSTAMP:20260419T053229
CREATED:20250811T182037Z
LAST-MODIFIED:20250811T182142Z
UID:1049-1755601200-1755610200@launchpadinw.com
SUMMARY:Learn to Grow Workshop by rConnect
DESCRIPTION:Simplify Your Business With the Power of AI\nYou don’t need to be a tech expert to use AI—you just need the right guide. \nIn this hands-on workshop\, John Hansman of Truit IT will show you how to tap into the power of artificial intelligence to automate your workload\, make smarter business decisions\, and free up your time for what matters most. Whether you’re new to AI or just overwhelmed by all the apps\, this session will help you clear the noise and focus on what actually works. \nWhy This Workshop Matters\nBecause tech should simplify—not complicate—your business. \nThe AI space is growing fast\, and if you don’t understand how to use it strategically\, you risk falling behind. This isn’t about jumping on the next trend—it’s about using real tools in real ways to create real results. \nBy not attending\, you could miss: \nEasy wins that could save you hours every week\nThe difference between helpful automation and time-wasting tech\nA clear roadmap to using AI to think smarter\, not work harder\nA trusted space to learn without the jargon or pressure \n  \nClick HERE to Register
URL:https://launchpadinw.com/event/learn-to-grow-workshop-by-rconnect/
LOCATION:Burbity Workspaces – Spokane Valley Commons\, 2818 North Sullivan Road\, Suite 100\, Spokane Valley\, WA\, 99216
ATTACH;FMTTYPE=image/jpeg:https://launchpadinw.com/wp-content/uploads/2025/08/rConnect.jpeg
END:VEVENT
BEGIN:VEVENT
DTSTART;TZID=America/Los_Angeles:20250626T080000
DTEND;TZID=America/Los_Angeles:20250626T183000
DTSTAMP:20260419T053229
CREATED:20250620T203159Z
LAST-MODIFIED:20250622T161021Z
UID:1034-1750924800-1750962600@launchpadinw.com
SUMMARY:LaunchPad Coworking Day at MØDE
DESCRIPTION:Break away from your usual workspace and experience a day at MØDE—a creative and energizing environment where work\, wellness\, and community come together. \nWhether you’re working solo or with a team\, this is your chance to enjoy a new atmosphere\, connect with others\, and boost your productivity in an inspiring space. From thoughtful conversations to relaxed networking\, the day is designed to fuel both your work and your well-being. \nStart the day with coffee and an optional group walk\, join us for a thought-provoking Lunch & Learn\, and close out with a casual happy hour. Don’t miss the opportunity to collaborate\, co-work\, and connect in a new environment! \n8:00 AM – Optional Walk \n9:00 AM – Coffee \n11:30 AM – Lunch & Guest Speakers \n4:00 PM – Happy Hour \nClick Here to Register
URL:https://launchpadinw.com/event/launchpad-coworking-day-at-mode/
LOCATION:MODE\, 2110 N Molter Rd\, Liberty Lake\, WA\, 99019\, United States
ATTACH;FMTTYPE=image/jpeg:https://launchpadinw.com/wp-content/uploads/2025/06/Coworking.jpg
END:VEVENT
BEGIN:VEVENT
DTSTART;TZID=America/Los_Angeles:20250617T173000
DTEND;TZID=America/Los_Angeles:20250617T210000
DTSTAMP:20260419T053229
CREATED:20250603T001120Z
LAST-MODIFIED:20250612T021221Z
UID:982-1750181400-1750194000@launchpadinw.com
SUMMARY:Tech @ Night: INW Edition
DESCRIPTION:LaunchPad INW and SeaCiti x WTIA are teaming up on June 17\, 2025\, for a special Summer Kickoff edition of Tech@Night! \nThis June\, SeaCiti x WTIA and LaunchPad INW are partnering to host a Tech@Night mixer that kicks off the summer with an evening of networking\, thought-provoking discussions\, and community building. \nWe’re bringing together tech professionals\, founders\, and innovation leaders from across the Inland Northwest to celebrate the season and spotlight the region’s growing tech momentum. \nSchedule for the Evening \n5:30 – 6:15 PM | Welcome Mixer + Refreshments and Remarks\n6:15 – 7:10 PM | Panel 1: Job Growth\, Economic Development & Emerging Tech Opportunities\n7:20 – 8:15 PM | Panel 2: Startup Growth\, Innovation Culture & the Tech Worker Experience\n8:15 – 9:00 PM | Closing Connections & Community Building and refreshments \nJoin us for an evening of insightful discussions\, meaningful connections\, and a celebration of innovation in tech! \n🎟️ Tickets: $20 (For anyone facing financial limitations\, email us at info@seaciti.org for a discounted ticket) \n📍 Location: Steam Plant | 159 South Lincoln Street\, Spokane\, WA 99201 \n🍽️ Light refreshments and drinks included (21+ event\, IDs required) \nWe’re excited to combine LaunchPad’s annual Summer Kick-Off with SeaCiti x WTIA’s Tech@Night series to unify tech communities across the region and celebrate the growing tech ecosystem of the Inland Northwest. We hope to see you there! \nRegister here: https://wtia.tfaforms.net/wfQgYrD
URL:https://launchpadinw.com/event/tech-night-inw-edition-2/
LOCATION:Steam Plant Restaurant\, 159 S Lincoln Street\, Spokane\, W\, 99201\, United States
CATEGORIES:Tech@Night
ATTACH;FMTTYPE=image/png:https://launchpadinw.com/wp-content/uploads/2025/06/panel-flyer-LinkedIn-54.png
END:VEVENT
BEGIN:VEVENT
DTSTART;TZID=America/Los_Angeles:20250527T153000
DTEND;TZID=America/Los_Angeles:20250527T183000
DTSTAMP:20260419T053229
CREATED:20250509T043440Z
LAST-MODIFIED:20250509T044935Z
UID:839-1748359800-1748370600@launchpadinw.com
SUMMARY:May Innovator Connect - Cybersecurity Meets AI: The New Frontier!
DESCRIPTION:Attention all innovators\, don’t miss the May Innovator Connect – Cybersecurity Meets AI: The New Frontier! \nJoin us on Tuesday\, May 27\, 2025 from 3:30 to 6:30 pm for an exciting event at the Catalyst Building. \nDiscover the latest trends in cybersecurity and AI\, and how they are shaping the future. \nNetwork with industry leaders and innovators\, and gain valuable insights into the intersection of these two cutting-edge technologies. Don’t miss out on this opportunity to connect\, learn\, and be inspired! \nMore details coming soon\, register here: https://www.eventbrite.com/e/innovator-connect-cybersecurity-meets-aithe-new-frontier-tickets-1355416921499?aff=oddtdtcreator \n*This event is a free to attend thanks to our partners. Appetizers and a no host bar is available for attendees 21 and older.\n  \nThank you to our Sponsors
URL:https://launchpadinw.com/event/may-innovator-connect-cybersecurity-meets-ai-the-new-frontier/
LOCATION:The Catalyst Building\, 601 E Riverside Avenue\, Spokane\, WA\, 99202\, United States
END:VEVENT
BEGIN:VEVENT
DTSTART;TZID=America/Los_Angeles:20250223T153000
DTEND;TZID=America/Los_Angeles:20250223T183000
DTSTAMP:20260419T053229
CREATED:20250216T023433Z
LAST-MODIFIED:20250226T232517Z
UID:234-1740324600-1740335400@launchpadinw.com
SUMMARY:Innovator Connect: Bioscience and Digital Health
DESCRIPTION:Join us on Tue Feb 25\, 2025 at 3:30 pm for an event filled with exciting discussions and networking opportunities in the fields of bioscience and digital health. This in-person event will bring together innovators\, entrepreneurs\, and professionals to explore the latest trends and developments in these industries. \nDon’t miss out on this chance to connect with like-minded individuals\, gain valuable insights\, and discover new opportunities for collaboration. Whether you’re a seasoned expert or just starting out in the field\, there’s something for everyone at Innovator Connect! \nWe look forward to seeing you there! \n*This event is a free to attend thanks to our partners. Apptetizers and a no host bar is available for attendees 21 and older
URL:https://launchpadinw.com/event/innovator-connect-bioscience-and-digital-health/
LOCATION:Eastern Washington University Spokane\, 601 East Riverside Ave Suite 110\, Spokane\, WA\, 99202\, United States
CATEGORIES:Innovator Connect
END:VEVENT
END:VCALENDAR